BEGIN:VCALENDAR
VERSION:2.0
PRODID:-//Abundant Life Joplin - ECPv6.15.20//NONSGML v1.0//EN
CALSCALE:GREGORIAN
METHOD:PUBLISH
X-WR-CALNAME:Abundant Life Joplin
X-ORIGINAL-URL:https://abundantlifejoplin.com
X-WR-CALDESC:Events for Abundant Life Joplin
REFRESH-INTERVAL;VALUE=DURATION:PT1H
X-Robots-Tag:noindex
X-PUBLISHED-TTL:PT1H
BEGIN:VTIMEZONE
TZID:America/Chicago
BEGIN:DAYLIGHT
TZOFFSETFROM:-0600
TZOFFSETTO:-0500
TZNAME:CDT
DTSTART:20230312T080000
END:DAYLIGHT
BEGIN:STANDARD
TZOFFSETFROM:-0500
TZOFFSETTO:-0600
TZNAME:CST
DTSTART:20231105T070000
END:STANDARD
BEGIN:DAYLIGHT
TZOFFSETFROM:-0600
TZOFFSETTO:-0500
TZNAME:CDT
DTSTART:20240310T080000
END:DAYLIGHT
BEGIN:STANDARD
TZOFFSETFROM:-0500
TZOFFSETTO:-0600
TZNAME:CST
DTSTART:20241103T070000
END:STANDARD
BEGIN:DAYLIGHT
TZOFFSETFROM:-0600
TZOFFSETTO:-0500
TZNAME:CDT
DTSTART:20250309T080000
END:DAYLIGHT
BEGIN:STANDARD
TZOFFSETFROM:-0500
TZOFFSETTO:-0600
TZNAME:CST
DTSTART:20251102T070000
END:STANDARD
END:VTIMEZONE
BEGIN:VEVENT
DTSTART;TZID=America/Chicago:20241006T103000
DTEND;TZID=America/Chicago:20241006T123000
DTSTAMP:20260422T163501
CREATED:20240912T021419Z
LAST-MODIFIED:20240912T021421Z
UID:1874-1728210600-1728217800@abundantlifejoplin.com
SUMMARY:Family Communion Sunday
DESCRIPTION:Join us as we share a meal together and celebrate Communion during our Sunday morning service.
URL:https://abundantlifejoplin.com/event/family-communion-sunday/
LOCATION:Abundant Life Joplin\, 5398 East 7th Street\, Joplin\, Missouri\, 64801\, United States
ATTACH;FMTTYPE=image/png:https://abundantlifejoplin.com/wp-content/uploads/2024/09/communion-sunday.png
END:VEVENT
END:VCALENDAR