BEGIN:VCALENDAR
VERSION:2.0
PRODID:-//Abundant Life Joplin - ECPv6.15.20//NONSGML v1.0//EN
CALSCALE:GREGORIAN
METHOD:PUBLISH
X-WR-CALNAME:Abundant Life Joplin
X-ORIGINAL-URL:https://abundantlifejoplin.com
X-WR-CALDESC:Events for Abundant Life Joplin
REFRESH-INTERVAL;VALUE=DURATION:PT1H
X-Robots-Tag:noindex
X-PUBLISHED-TTL:PT1H
BEGIN:VTIMEZONE
TZID:America/Chicago
BEGIN:DAYLIGHT
TZOFFSETFROM:-0600
TZOFFSETTO:-0500
TZNAME:CDT
DTSTART:20230312T080000
END:DAYLIGHT
BEGIN:STANDARD
TZOFFSETFROM:-0500
TZOFFSETTO:-0600
TZNAME:CST
DTSTART:20231105T070000
END:STANDARD
BEGIN:DAYLIGHT
TZOFFSETFROM:-0600
TZOFFSETTO:-0500
TZNAME:CDT
DTSTART:20240310T080000
END:DAYLIGHT
BEGIN:STANDARD
TZOFFSETFROM:-0500
TZOFFSETTO:-0600
TZNAME:CST
DTSTART:20241103T070000
END:STANDARD
BEGIN:DAYLIGHT
TZOFFSETFROM:-0600
TZOFFSETTO:-0500
TZNAME:CDT
DTSTART:20250309T080000
END:DAYLIGHT
BEGIN:STANDARD
TZOFFSETFROM:-0500
TZOFFSETTO:-0600
TZNAME:CST
DTSTART:20251102T070000
END:STANDARD
BEGIN:DAYLIGHT
TZOFFSETFROM:-0600
TZOFFSETTO:-0500
TZNAME:CDT
DTSTART:20260308T080000
END:DAYLIGHT
BEGIN:STANDARD
TZOFFSETFROM:-0500
TZOFFSETTO:-0600
TZNAME:CST
DTSTART:20261101T070000
END:STANDARD
END:VTIMEZONE
BEGIN:VTIMEZONE
TZID:UTC
BEGIN:STANDARD
TZOFFSETFROM:+0000
TZOFFSETTO:+0000
TZNAME:UTC
DTSTART:20230101T000000
END:STANDARD
END:VTIMEZONE
BEGIN:VEVENT
DTSTART;TZID=America/Chicago:20251224T170000
DTEND;TZID=America/Chicago:20251224T180000
DTSTAMP:20260419T180503
CREATED:20251208T153949Z
LAST-MODIFIED:20251208T153959Z
UID:2192-1766595600-1766599200@abundantlifejoplin.com
SUMMARY:Christmas Eve Family Service
DESCRIPTION:You’re invited to our Family Candlelight Christmas Eve Service on December 24th at 5 PM!Come celebrate the wonder of Jesus’ birth with beautiful carols\, a special family-friendly service\, and the glow of candlelight. 🕯️❤️ \n\n\n\nAfter service\, stay for cookies and fellowship as we enjoy the sweetness of Christmas together! 🍪✨ \n\n\n\nBring your family\, invite a friend\, and join us for this joyful Christmas tradition.We can’t wait to celebrate with you!
URL:https://abundantlifejoplin.com/event/christmas-eve-family-sercice/
ATTACH;FMTTYPE=image/jpeg:https://abundantlifejoplin.com/wp-content/uploads/2025/12/Green-White-Simple-Christmas-Playlist-Livestream-YouTube-Thumbnail.jpg
END:VEVENT
BEGIN:VEVENT
DTSTART;TZID=America/Chicago:20251102T100000
DTEND;TZID=America/Chicago:20251102T120000
DTSTAMP:20260419T180503
CREATED:20251017T161413Z
LAST-MODIFIED:20251017T161417Z
UID:2156-1762077600-1762084800@abundantlifejoplin.com
SUMMARY:Family Communion
DESCRIPTION:Join us as we gather to worship the King together and share in communion as one family in Christ 🙏❤️ \n\n\n\nThis month’s potluck is brunch-themed 🍳🥞☕ — so bring your favorite breakfast or brunch dish to share! It’s always a beautiful time of fellowship\, food\, and faith. We can’t wait to see you there! 🥰
URL:https://abundantlifejoplin.com/event/family-communion-2/
ATTACH;FMTTYPE=image/png:https://abundantlifejoplin.com/wp-content/uploads/2025/10/communion-sunday.png
END:VEVENT
BEGIN:VEVENT
DTSTART;TZID=America/Chicago:20250816T130000
DTEND;TZID=America/Chicago:20250816T150000
DTSTAMP:20260419T180503
CREATED:20250724T013601Z
LAST-MODIFIED:20250724T013603Z
UID:2112-1755349200-1755356400@abundantlifejoplin.com
SUMMARY:Ladies' Afternoon Out
DESCRIPTION:🎨 Ladies Afternoon Out! ☕🍰 \n\n\n\nMark your calendars for Saturday\, August 16th at 1 PM—we’re heading to Journey Canvas in Webb City for a fun and relaxing afternoon together! \n\n\n\nCome enjoy a tasty drink or sweet snack and soak up some much-needed fellowship and conversation with other women. 💕 \n\n\n\nBring a friend and let’s connect\, laugh\, and unwind!
URL:https://abundantlifejoplin.com/event/ladies-afternoon-out/
ATTACH;FMTTYPE=image/jpeg:https://abundantlifejoplin.com/wp-content/uploads/2025/07/womens-event-1.jpg
END:VEVENT
BEGIN:VEVENT
DTSTART;TZID=America/Chicago:20250803T100000
DTEND;TZID=America/Chicago:20250803T120000
DTSTAMP:20260419T180503
CREATED:20250724T013222Z
LAST-MODIFIED:20250724T013226Z
UID:2109-1754215200-1754222400@abundantlifejoplin.com
SUMMARY:Family Communion
DESCRIPTION:🍝 Family Communion Sunday + Spaghetti Brunch! 🍝Join us for a special Family Communion Service—we’ll worship together\, take communion\, and enjoy a spaghetti-themed brunch all as part of the service! 🙏🍽️ \n\n\n\nBring your favorite salad\, side\, or dessert to share. It’s a beautiful time of fellowship\, food\, and faith—we can’t wait to see you there! 💒❤️🍝
URL:https://abundantlifejoplin.com/event/family-communion/
ATTACH;FMTTYPE=image/jpeg:https://abundantlifejoplin.com/wp-content/uploads/2025/07/communion-sunday.jpg
END:VEVENT
BEGIN:VEVENT
DTSTART;TZID=America/Chicago:20250730T183000
DTEND;TZID=America/Chicago:20250730T200000
DTSTAMP:20260419T180503
CREATED:20250612T021343Z
LAST-MODIFIED:20250724T013734Z
UID:2081-1753900200-1753905600@abundantlifejoplin.com
SUMMARY:Putting on the Full Armor of God Bible Study
DESCRIPTION:Join us Wednesday nights at 6:30 PM this summer for a powerful Bible study series at Abundant Life Joplin: Putting on the Full Armor of God. \n\n\n\nWe’re diving deep into Ephesians 6 to learn how to stand strong in faith\, fight spiritual battles\, and walk in victory every day. Come ready to grow\, be encouraged\, and get equipped for the fight! \n\n\n\n📅 Wednesdays | 6:30 PM📍 Abundant Life Joplin \n\n\n\nLet’s suit up together! 💪
URL:https://abundantlifejoplin.com/event/putting-on-the-full-armor-of-god-bible-study/
ATTACH;FMTTYPE=image/png:https://abundantlifejoplin.com/wp-content/uploads/2025/06/bible-study.png
END:VEVENT
BEGIN:VEVENT
DTSTART;TZID=America/Chicago:20250621T140000
DTEND;TZID=America/Chicago:20250621T153000
DTSTAMP:20260419T180503
CREATED:20250612T021716Z
LAST-MODIFIED:20250612T021717Z
UID:2084-1750514400-1750519800@abundantlifejoplin.com
SUMMARY:Women's Bible Study
DESCRIPTION:Join us on Saturday\, June 21st\, at 2 PM as we continue our “Women in the Word” study! Together\, we’ll explore the lives of faithful women in Scripture and be encouraged in our own walk with Christ. \n\n\n\n💛 Come for the fellowship\, stay for the wisdom—plus\, there will be snacks to enjoy! \n\n\n\nBring a friend\, your Bible\, and an open heart. We can’t wait to see you there!
URL:https://abundantlifejoplin.com/event/womens-bible-study-7/
ATTACH;FMTTYPE=image/png:https://abundantlifejoplin.com/wp-content/uploads/2025/06/womens-bible-study.png
END:VEVENT
BEGIN:VEVENT
DTSTART;TZID=America/Chicago:20250315T140000
DTEND;TZID=America/Chicago:20250315T153000
DTSTAMP:20260419T180503
CREATED:20250301T145548Z
LAST-MODIFIED:20250301T145552Z
UID:2023-1742047200-1742052600@abundantlifejoplin.com
SUMMARY:Women's Bible Study
DESCRIPTION:
URL:https://abundantlifejoplin.com/event/womens-bible-study-6/
ATTACH;FMTTYPE=image/jpeg:https://abundantlifejoplin.com/wp-content/uploads/2025/03/womens-bible-study.jpg
END:VEVENT
BEGIN:VEVENT
DTSTART;TZID=America/Chicago:20250215T140000
DTEND;TZID=America/Chicago:20250215T153000
DTSTAMP:20260419T180503
CREATED:20250119T151622Z
LAST-MODIFIED:20250119T151624Z
UID:1976-1739628000-1739633400@abundantlifejoplin.com
SUMMARY:Women's Bible Study
DESCRIPTION:Ladies\, mark your calendars! Join us on February 15th at 2 PM for a special women’s Bible study as we dive into the lives and lessons of women in the Word. Together\, we’ll explore God’s truths and how they apply to our lives today. \n\n\n\n🍪 Snacks provided \n\n\n\nThis is the perfect time to connect\, grow\, and be inspired in a warm and welcoming space. Invite a friend or two—we can’t wait to study with you! 💖
URL:https://abundantlifejoplin.com/event/womens-bible-study-5/
ATTACH;FMTTYPE=image/jpeg:https://abundantlifejoplin.com/wp-content/uploads/2025/01/womens-bible-study.jpg
END:VEVENT
BEGIN:VEVENT
DTSTART;TZID=America/Chicago:20250205T180000
DTEND;TZID=America/Chicago:20250205T190000
DTSTAMP:20260419T180503
CREATED:20250119T152245Z
LAST-MODIFIED:20250119T152247Z
UID:1985-1738778400-1738782000@abundantlifejoplin.com
SUMMARY:Who We Are in Christ
DESCRIPTION:Join us Wednesday nights at 6 PM as we dive into God’s Word and uncover what it means to live as His beloved children. This series will refresh your heart and strengthen your faith as we explore our identity in Christ and the incredible promises He has for us. \n\n\n\nCome ready to grow\, connect\, and be encouraged! Bring your Bible\, a friend\, and an open heart. We can’t wait to see you there! 🙏
URL:https://abundantlifejoplin.com/event/who-we-are-in-christ-5/
ATTACH;FMTTYPE=image/png:https://abundantlifejoplin.com/wp-content/uploads/2024/12/bible-study-Youtube-Banner.png
END:VEVENT
BEGIN:VEVENT
DTSTART;TZID=America/Chicago:20250129T180000
DTEND;TZID=America/Chicago:20250129T190000
DTSTAMP:20260419T180503
CREATED:20250119T152104Z
LAST-MODIFIED:20250119T152106Z
UID:1983-1738173600-1738177200@abundantlifejoplin.com
SUMMARY:Who We Are in Christ
DESCRIPTION:Join us Wednesday nights at 6 PM as we dive into God’s Word and uncover what it means to live as His beloved children. This series will refresh your heart and strengthen your faith as we explore our identity in Christ and the incredible promises He has for us. \n\n\n\nCome ready to grow\, connect\, and be encouraged! Bring your Bible\, a friend\, and an open heart. We can’t wait to see you there! 🙏
URL:https://abundantlifejoplin.com/event/who-we-are-in-christ-4/
ATTACH;FMTTYPE=image/png:https://abundantlifejoplin.com/wp-content/uploads/2024/12/bible-study-Youtube-Banner.png
END:VEVENT
BEGIN:VEVENT
DTSTART;TZID=America/Chicago:20250122T180000
DTEND;TZID=America/Chicago:20250122T190000
DTSTAMP:20260419T180503
CREATED:20250119T151942Z
LAST-MODIFIED:20250119T151944Z
UID:1981-1737568800-1737572400@abundantlifejoplin.com
SUMMARY:Who We Are in Christ
DESCRIPTION:Join us Wednesday nights at 6 PM as we dive into God’s Word and uncover what it means to live as His beloved children. This series will refresh your heart and strengthen your faith as we explore our identity in Christ and the incredible promises He has for us. \n\n\n\nCome ready to grow\, connect\, and be encouraged! Bring your Bible\, a friend\, and an open heart. We can’t wait to see you there! 🙏
URL:https://abundantlifejoplin.com/event/who-we-are-in-christ-3/
ATTACH;FMTTYPE=image/png:https://abundantlifejoplin.com/wp-content/uploads/2024/12/bible-study-Youtube-Banner.png
END:VEVENT
BEGIN:VEVENT
DTSTART;TZID=America/Chicago:20250118T140000
DTEND;TZID=America/Chicago:20250118T163000
DTSTAMP:20260419T180503
CREATED:20241230T204903Z
LAST-MODIFIED:20241230T212455Z
UID:1950-1737208800-1737217800@abundantlifejoplin.com
SUMMARY:Women's Bible Study
DESCRIPTION:Ladies\, mark your calendars! Join us on January 18th at 2 PM for a special women’s Bible study as we dive into the lives and lessons of women in the Word. Together\, we’ll explore God’s truths and how they apply to our lives today. \n\n\n\n🍪 Snacks provided \n\n\n\nThis is the perfect time to connect\, grow\, and be inspired in a warm and welcoming space. Invite a friend or two—we can’t wait to study with you! 💖
URL:https://abundantlifejoplin.com/event/womens-bible-study-4/
ATTACH;FMTTYPE=image/png:https://abundantlifejoplin.com/wp-content/uploads/2024/12/womens-bible-study.png
END:VEVENT
BEGIN:VEVENT
DTSTART;TZID=America/Chicago:20250115T180000
DTEND;TZID=America/Chicago:20250115T190000
DTSTAMP:20260419T180503
CREATED:20250119T151831Z
LAST-MODIFIED:20250119T151833Z
UID:1979-1736964000-1736967600@abundantlifejoplin.com
SUMMARY:Who We Are in Christ
DESCRIPTION:Join us Wednesday nights at 6 PM as we dive into God’s Word and uncover what it means to live as His beloved children. This series will refresh your heart and strengthen your faith as we explore our identity in Christ and the incredible promises He has for us. \n\n\n\nCome ready to grow\, connect\, and be encouraged! Bring your Bible\, a friend\, and an open heart. We can’t wait to see you there! 🙏
URL:https://abundantlifejoplin.com/event/who-we-are-in-christ-2/
ATTACH;FMTTYPE=image/png:https://abundantlifejoplin.com/wp-content/uploads/2024/12/bible-study-Youtube-Banner.png
END:VEVENT
BEGIN:VEVENT
DTSTART;TZID=America/Chicago:20250108T180000
DTEND;TZID=America/Chicago:20250108T190000
DTSTAMP:20260419T180503
CREATED:20241230T211959Z
LAST-MODIFIED:20241230T212320Z
UID:1953-1736359200-1736362800@abundantlifejoplin.com
SUMMARY:Who We Are in Christ
DESCRIPTION:Join us every Wednesday at 6 PM as we dive into God’s Word and uncover what it means to live as His beloved children. This series will refresh your heart and strengthen your faith as we explore our identity in Christ and the incredible promises He has for us. \n\n\n\nCome ready to grow\, connect\, and be encouraged! Bring your Bible\, a friend\, and an open heart. We can’t wait to see you there! 🙏
URL:https://abundantlifejoplin.com/event/who-we-are-in-christ/
ATTACH;FMTTYPE=image/png:https://abundantlifejoplin.com/wp-content/uploads/2024/12/bible-study-Youtube-Banner.png
END:VEVENT
BEGIN:VEVENT
DTSTART;TZID=America/Chicago:20250105T103000
DTEND;TZID=America/Chicago:20250105T123000
DTSTAMP:20260419T180503
CREATED:20241212T041757Z
LAST-MODIFIED:20241212T041800Z
UID:1932-1736073000-1736080200@abundantlifejoplin.com
SUMMARY:Family Communion Sunday
DESCRIPTION:Mark your calendars! 🗓️  Family Communion Sunday at ⏰ 10:30 AM!  \n\n\n\nWe’ll gather to worship the King 👑 and share a delicious brunch together 🥞🍳. Bring your favorite dish to share —we’d love to have you join us for this special time of fellowship! ❤️😊
URL:https://abundantlifejoplin.com/event/family-communion-sunday-2/
ATTACH;FMTTYPE=image/png:https://abundantlifejoplin.com/wp-content/uploads/2024/12/communion-sunday.png
END:VEVENT
BEGIN:VEVENT
DTSTART;TZID=America/Chicago:20241231T180000
DTEND;TZID=America/Chicago:20241231T193000
DTSTAMP:20260419T180503
CREATED:20241212T042742Z
LAST-MODIFIED:20241212T043815Z
UID:1935-1735668000-1735673400@abundantlifejoplin.com
SUMMARY:New Year's Eve Prayer
DESCRIPTION:🗓️ Mark Your Calendars! 🗓️ \n\n\n\nJoin us for a New Year’s Eve Prayer on Sunday\, December 31st\, at 6:00 PM at the church! \n\n\n\nLet’s close out 2023 together with gratitude and step into 2024 with prayer and purpose. \n\n\n\nDon’t miss this special evening — invite your family and friends!
URL:https://abundantlifejoplin.com/event/new-years-eve-prayer/
ATTACH;FMTTYPE=image/png:https://abundantlifejoplin.com/wp-content/uploads/2024/12/new-years-eve.png
END:VEVENT
BEGIN:VEVENT
DTSTART;TZID=America/Chicago:20241224T160000
DTEND;TZID=America/Chicago:20241224T170000
DTSTAMP:20260419T180503
CREATED:20241212T041153Z
LAST-MODIFIED:20241212T041154Z
UID:1929-1735056000-1735059600@abundantlifejoplin.com
SUMMARY:Christmas Eve Service
DESCRIPTION:Join us for a special Christmas Eve family service on December 24th at 4 PM!  \n\n\n\n Bring your loved ones and experience the joy of the season together. This family-friendly event is perfect for all ages\, and we’ll have delicious treats provided afterwards. We can’t wait to see you there!
URL:https://abundantlifejoplin.com/event/christmas-eve-service/
ATTACH;FMTTYPE=image/jpeg:https://abundantlifejoplin.com/wp-content/uploads/2024/12/christmas-eve.jpg
END:VEVENT
BEGIN:VEVENT
DTSTART;TZID=America/Chicago:20241221T140000
DTEND;TZID=America/Chicago:20241221T153000
DTSTAMP:20260419T180503
CREATED:20241212T041041Z
LAST-MODIFIED:20241212T041043Z
UID:1926-1734789600-1734795000@abundantlifejoplin.com
SUMMARY:Women's Christmas Party
DESCRIPTION:Ladies\, you’re invited to a special Christmas gathering!  \n\n\n\nJoin us for a cozy and festive Women’s Christmas Party on Saturday\, December 21st at 2 PM. \n\n\n\nThere will be plenty of holiday cheer\, great company\, and delicious finger foods to enjoy. It’s a wonderful chance to connect\, celebrate\, and share in the joy of the season! \n\n\n\nMark your calendars\, and bring a friend!
URL:https://abundantlifejoplin.com/event/womens-christmas-party/
ATTACH;FMTTYPE=image/png:https://abundantlifejoplin.com/wp-content/uploads/2024/12/Green-Modern-Christmas-Sale-YouTube-Thumbnail.png
END:VEVENT
BEGIN:VEVENT
DTSTART;TZID=America/Chicago:20241019T140000
DTEND;TZID=America/Chicago:20241019T153000
DTSTAMP:20260419T180503
CREATED:20241016T023035Z
LAST-MODIFIED:20241016T023039Z
UID:1887-1729346400-1729351800@abundantlifejoplin.com
SUMMARY:Women's Bible Study
DESCRIPTION:
URL:https://abundantlifejoplin.com/event/womens-bible-study-3/
LOCATION:Abundant Life Joplin\, 5398 East 7th Street\, Joplin\, Missouri\, 64801\, United States
ATTACH;FMTTYPE=image/jpeg:https://abundantlifejoplin.com/wp-content/uploads/2024/10/womens-bible-study.jpg
END:VEVENT
BEGIN:VEVENT
DTSTART;TZID=America/Chicago:20241006T103000
DTEND;TZID=America/Chicago:20241006T123000
DTSTAMP:20260419T180503
CREATED:20240912T021419Z
LAST-MODIFIED:20240912T021421Z
UID:1874-1728210600-1728217800@abundantlifejoplin.com
SUMMARY:Family Communion Sunday
DESCRIPTION:Join us as we share a meal together and celebrate Communion during our Sunday morning service.
URL:https://abundantlifejoplin.com/event/family-communion-sunday/
LOCATION:Abundant Life Joplin\, 5398 East 7th Street\, Joplin\, Missouri\, 64801\, United States
ATTACH;FMTTYPE=image/png:https://abundantlifejoplin.com/wp-content/uploads/2024/09/communion-sunday.png
END:VEVENT
BEGIN:VEVENT
DTSTART;TZID=America/Chicago:20240921T140000
DTEND;TZID=America/Chicago:20240921T160000
DTSTAMP:20260419T180503
CREATED:20240912T021207Z
LAST-MODIFIED:20240912T021208Z
UID:1871-1726927200-1726934400@abundantlifejoplin.com
SUMMARY:Women's Bible Study
DESCRIPTION:Make plans to join us for an incredible women’s Bible study and delicious treats!
URL:https://abundantlifejoplin.com/event/womens-bible-study-2/
LOCATION:Abundant Life Joplin\, 5398 East 7th Street\, Joplin\, Missouri\, 64801\, United States
ATTACH;FMTTYPE=image/jpeg:https://abundantlifejoplin.com/wp-content/uploads/2024/09/womens-bible-study.jpg
END:VEVENT
BEGIN:VEVENT
DTSTART;TZID=America/Chicago:20240817T140000
DTEND;TZID=America/Chicago:20240817T153000
DTSTAMP:20260419T180503
CREATED:20240802T195229Z
LAST-MODIFIED:20240912T020956Z
UID:1843-1723903200-1723908600@abundantlifejoplin.com
SUMMARY:Women's Bible Study
DESCRIPTION:Join us as we study a woman in the Bible together and learn from her life! Refreshments will be served.
URL:https://abundantlifejoplin.com/event/1843/
LOCATION:Abundant Life Joplin\, 5398 East 7th Street\, Joplin\, Missouri\, 64801\, United States
ATTACH;FMTTYPE=image/png:https://abundantlifejoplin.com/wp-content/uploads/2024/08/womens-bible-study.png
END:VEVENT
BEGIN:VEVENT
DTSTART;TZID=America/Chicago:20240720T140000
DTEND;TZID=America/Chicago:20240720T160000
DTSTAMP:20260419T180503
CREATED:20240712T124341Z
LAST-MODIFIED:20240712T124343Z
UID:1828-1721484000-1721491200@abundantlifejoplin.com
SUMMARY:Women's Bible Study
DESCRIPTION:Join us as we study a woman in the Bible together and learn from her life! Refreshments will be served.
URL:https://abundantlifejoplin.com/event/womens-bible-study/
LOCATION:Abundant Life Joplin\, 5398 East 7th Street\, Joplin\, Missouri\, 64801\, United States
ATTACH;FMTTYPE=image/png:https://abundantlifejoplin.com/wp-content/uploads/2024/07/womens-bible-study.png
END:VEVENT
BEGIN:VEVENT
DTSTART;TZID=America/Chicago:20240427T140000
DTEND;TZID=America/Chicago:20240427T153000
DTSTAMP:20260419T180503
CREATED:20240414T205409Z
LAST-MODIFIED:20240414T205411Z
UID:1800-1714226400-1714231800@abundantlifejoplin.com
SUMMARY:Kids' Movie Day
DESCRIPTION:Bring your kids to a movie day during the Women of the Word Bible study!
URL:https://abundantlifejoplin.com/event/kids-movie-day/
ATTACH;FMTTYPE=image/png:https://abundantlifejoplin.com/wp-content/uploads/2024/04/womens-bible-study.png
END:VEVENT
BEGIN:VEVENT
DTSTART;TZID=America/Chicago:20240427T140000
DTEND;TZID=America/Chicago:20240427T153000
DTSTAMP:20260419T180503
CREATED:20240414T205209Z
LAST-MODIFIED:20240414T210443Z
UID:1797-1714226400-1714231800@abundantlifejoplin.com
SUMMARY:Women in the Word
DESCRIPTION:Ladies\, you’re invited for a Bible study about women in the Word. Learn about these women of faith and how their lives relate to ours today. \n\n\n\nSnacks\, coffee and tea will be provided.
URL:https://abundantlifejoplin.com/event/women-in-the-word-2/
LOCATION:Abundant Life Joplin\, 5398 East 7th Street\, Joplin\, Missouri\, 64801\, United States
ATTACH;FMTTYPE=image/png:https://abundantlifejoplin.com/wp-content/uploads/2024/04/womens-bible-study-Facebook-Post.png
END:VEVENT
BEGIN:VEVENT
DTSTART;TZID=America/Chicago:20240331T103000
DTEND;TZID=America/Chicago:20240331T120000
DTSTAMP:20260419T180503
CREATED:20240228T210536Z
LAST-MODIFIED:20240228T210537Z
UID:1765-1711881000-1711886400@abundantlifejoplin.com
SUMMARY:Easter
DESCRIPTION:Join us for a special service as we celebrate Easter
URL:https://abundantlifejoplin.com/event/easter/
ATTACH;FMTTYPE=image/png:https://abundantlifejoplin.com/wp-content/uploads/2024/02/I_am_Jesus_-_Banner_9-Recovered-1.png
END:VEVENT
BEGIN:VEVENT
DTSTART;TZID=America/Chicago:20240316T140000
DTEND;TZID=America/Chicago:20240316T153000
DTSTAMP:20260419T180503
CREATED:20240228T191810Z
LAST-MODIFIED:20240228T200031Z
UID:1759-1710597600-1710603000@abundantlifejoplin.com
SUMMARY:Women in the Word
DESCRIPTION:Ladies\, you’re invited for a Bible study about women in the Word. Learn about these women of faith and how their lives relate to ours today.  \n\n\n\nSnacks\, coffee and tea will be provided.
URL:https://abundantlifejoplin.com/event/women-in-the-word/
ATTACH;FMTTYPE=image/jpeg:https://abundantlifejoplin.com/wp-content/uploads/2024/02/womens-bible-study-Facebook-Post.jpg
END:VEVENT
BEGIN:VEVENT
DTSTART;TZID=UTC:20240224T160000
DTEND;TZID=UTC:20240224T180000
DTSTAMP:20260419T180503
CREATED:20240124T091031Z
LAST-MODIFIED:20240228T191455Z
UID:1669-1708790400-1708797600@abundantlifejoplin.com
SUMMARY:Flourish
DESCRIPTION:Learn about effective communication in relationships from couples therapist David Wermuth. \n\n\n\nDinner provided.
URL:https://abundantlifejoplin.com/event/flourish/
LOCATION:Abundant Life Joplin\, 5398 East 7th Street\, Joplin\, Missouri\, 64801\, United States
ATTACH;FMTTYPE=image/png:https://abundantlifejoplin.com/wp-content/uploads/2024/01/Illustrated-1.png
END:VEVENT
BEGIN:VEVENT
DTSTART;TZID=America/Chicago:20240211T173000
DTEND;TZID=America/Chicago:20240211T210000
DTSTAMP:20260419T180503
CREATED:20240125T025229Z
LAST-MODIFIED:20240125T031943Z
UID:1700-1707672600-1707685200@abundantlifejoplin.com
SUMMARY:Super Bowl Party
DESCRIPTION:No matter whose playing\, we’re watching! Please bring a snack to share.
URL:https://abundantlifejoplin.com/event/super-bowl-party/
LOCATION:Abundant Life Joplin\, 5398 East 7th Street\, Joplin\, Missouri\, 64801\, United States
ATTACH;FMTTYPE=image/png:https://abundantlifejoplin.com/wp-content/uploads/2024/01/Super-bowl.png
END:VEVENT
END:VCALENDAR