BEGIN:VCALENDAR
VERSION:2.0
PRODID:-//Abundant Life Joplin - ECPv6.15.20//NONSGML v1.0//EN
CALSCALE:GREGORIAN
METHOD:PUBLISH
X-ORIGINAL-URL:https://abundantlifejoplin.com
X-WR-CALDESC:Events for Abundant Life Joplin
REFRESH-INTERVAL;VALUE=DURATION:PT1H
X-Robots-Tag:noindex
X-PUBLISHED-TTL:PT1H
BEGIN:VTIMEZONE
TZID:America/Chicago
BEGIN:DAYLIGHT
TZOFFSETFROM:-0600
TZOFFSETTO:-0500
TZNAME:CDT
DTSTART:20230312T080000
END:DAYLIGHT
BEGIN:STANDARD
TZOFFSETFROM:-0500
TZOFFSETTO:-0600
TZNAME:CST
DTSTART:20231105T070000
END:STANDARD
BEGIN:DAYLIGHT
TZOFFSETFROM:-0600
TZOFFSETTO:-0500
TZNAME:CDT
DTSTART:20240310T080000
END:DAYLIGHT
BEGIN:STANDARD
TZOFFSETFROM:-0500
TZOFFSETTO:-0600
TZNAME:CST
DTSTART:20241103T070000
END:STANDARD
BEGIN:DAYLIGHT
TZOFFSETFROM:-0600
TZOFFSETTO:-0500
TZNAME:CDT
DTSTART:20250309T080000
END:DAYLIGHT
BEGIN:STANDARD
TZOFFSETFROM:-0500
TZOFFSETTO:-0600
TZNAME:CST
DTSTART:20251102T070000
END:STANDARD
END:VTIMEZONE
BEGIN:VEVENT
DTSTART;TZID=America/Chicago:20241221T140000
DTEND;TZID=America/Chicago:20241221T153000
DTSTAMP:20260422T123732
CREATED:20241212T041041Z
LAST-MODIFIED:20241212T041043Z
UID:1926-1734789600-1734795000@abundantlifejoplin.com
SUMMARY:Women's Christmas Party
DESCRIPTION:Ladies\, you’re invited to a special Christmas gathering!  \n\n\n\nJoin us for a cozy and festive Women’s Christmas Party on Saturday\, December 21st at 2 PM. \n\n\n\nThere will be plenty of holiday cheer\, great company\, and delicious finger foods to enjoy. It’s a wonderful chance to connect\, celebrate\, and share in the joy of the season! \n\n\n\nMark your calendars\, and bring a friend!
URL:https://abundantlifejoplin.com/event/womens-christmas-party/
ATTACH;FMTTYPE=image/png:https://abundantlifejoplin.com/wp-content/uploads/2024/12/Green-Modern-Christmas-Sale-YouTube-Thumbnail.png
END:VEVENT
BEGIN:VEVENT
DTSTART;TZID=America/Chicago:20241224T160000
DTEND;TZID=America/Chicago:20241224T170000
DTSTAMP:20260422T123732
CREATED:20241212T041153Z
LAST-MODIFIED:20241212T041154Z
UID:1929-1735056000-1735059600@abundantlifejoplin.com
SUMMARY:Christmas Eve Service
DESCRIPTION:Join us for a special Christmas Eve family service on December 24th at 4 PM!  \n\n\n\n Bring your loved ones and experience the joy of the season together. This family-friendly event is perfect for all ages\, and we’ll have delicious treats provided afterwards. We can’t wait to see you there!
URL:https://abundantlifejoplin.com/event/christmas-eve-service/
ATTACH;FMTTYPE=image/jpeg:https://abundantlifejoplin.com/wp-content/uploads/2024/12/christmas-eve.jpg
END:VEVENT
BEGIN:VEVENT
DTSTART;TZID=America/Chicago:20241231T180000
DTEND;TZID=America/Chicago:20241231T193000
DTSTAMP:20260422T123732
CREATED:20241212T042742Z
LAST-MODIFIED:20241212T043815Z
UID:1935-1735668000-1735673400@abundantlifejoplin.com
SUMMARY:New Year's Eve Prayer
DESCRIPTION:🗓️ Mark Your Calendars! 🗓️ \n\n\n\nJoin us for a New Year’s Eve Prayer on Sunday\, December 31st\, at 6:00 PM at the church! \n\n\n\nLet’s close out 2023 together with gratitude and step into 2024 with prayer and purpose. \n\n\n\nDon’t miss this special evening — invite your family and friends!
URL:https://abundantlifejoplin.com/event/new-years-eve-prayer/
ATTACH;FMTTYPE=image/png:https://abundantlifejoplin.com/wp-content/uploads/2024/12/new-years-eve.png
END:VEVENT
END:VCALENDAR