BEGIN:VCALENDAR
VERSION:2.0
PRODID:-//Abundant Life Joplin - ECPv6.15.20//NONSGML v1.0//EN
CALSCALE:GREGORIAN
METHOD:PUBLISH
X-ORIGINAL-URL:https://abundantlifejoplin.com
X-WR-CALDESC:Events for Abundant Life Joplin
REFRESH-INTERVAL;VALUE=DURATION:PT1H
X-Robots-Tag:noindex
X-PUBLISHED-TTL:PT1H
BEGIN:VTIMEZONE
TZID:America/Chicago
BEGIN:DAYLIGHT
TZOFFSETFROM:-0600
TZOFFSETTO:-0500
TZNAME:CDT
DTSTART:20240310T080000
END:DAYLIGHT
BEGIN:STANDARD
TZOFFSETFROM:-0500
TZOFFSETTO:-0600
TZNAME:CST
DTSTART:20241103T070000
END:STANDARD
BEGIN:DAYLIGHT
TZOFFSETFROM:-0600
TZOFFSETTO:-0500
TZNAME:CDT
DTSTART:20250309T080000
END:DAYLIGHT
BEGIN:STANDARD
TZOFFSETFROM:-0500
TZOFFSETTO:-0600
TZNAME:CST
DTSTART:20251102T070000
END:STANDARD
BEGIN:DAYLIGHT
TZOFFSETFROM:-0600
TZOFFSETTO:-0500
TZNAME:CDT
DTSTART:20260308T080000
END:DAYLIGHT
BEGIN:STANDARD
TZOFFSETFROM:-0500
TZOFFSETTO:-0600
TZNAME:CST
DTSTART:20261101T070000
END:STANDARD
END:VTIMEZONE
BEGIN:VEVENT
DTSTART;TZID=America/Chicago:20250803T100000
DTEND;TZID=America/Chicago:20250803T120000
DTSTAMP:20260419T235023
CREATED:20250724T013222Z
LAST-MODIFIED:20250724T013226Z
UID:2109-1754215200-1754222400@abundantlifejoplin.com
SUMMARY:Family Communion
DESCRIPTION:🍝 Family Communion Sunday + Spaghetti Brunch! 🍝Join us for a special Family Communion Service—we’ll worship together\, take communion\, and enjoy a spaghetti-themed brunch all as part of the service! 🙏🍽️ \n\n\n\nBring your favorite salad\, side\, or dessert to share. It’s a beautiful time of fellowship\, food\, and faith—we can’t wait to see you there! 💒❤️🍝
URL:https://abundantlifejoplin.com/event/family-communion/
ATTACH;FMTTYPE=image/jpeg:https://abundantlifejoplin.com/wp-content/uploads/2025/07/communion-sunday.jpg
END:VEVENT
BEGIN:VEVENT
DTSTART;TZID=America/Chicago:20250816T130000
DTEND;TZID=America/Chicago:20250816T150000
DTSTAMP:20260419T235023
CREATED:20250724T013601Z
LAST-MODIFIED:20250724T013603Z
UID:2112-1755349200-1755356400@abundantlifejoplin.com
SUMMARY:Ladies' Afternoon Out
DESCRIPTION:🎨 Ladies Afternoon Out! ☕🍰 \n\n\n\nMark your calendars for Saturday\, August 16th at 1 PM—we’re heading to Journey Canvas in Webb City for a fun and relaxing afternoon together! \n\n\n\nCome enjoy a tasty drink or sweet snack and soak up some much-needed fellowship and conversation with other women. 💕 \n\n\n\nBring a friend and let’s connect\, laugh\, and unwind!
URL:https://abundantlifejoplin.com/event/ladies-afternoon-out/
ATTACH;FMTTYPE=image/jpeg:https://abundantlifejoplin.com/wp-content/uploads/2025/07/womens-event-1.jpg
END:VEVENT
END:VCALENDAR